BEGIN:VCALENDAR
VERSION:2.0
PRODID:-//Millionaireasia - ECPv5.8.1//NONSGML v1.0//EN
CALSCALE:GREGORIAN
METHOD:PUBLISH
X-WR-CALNAME:Millionaireasia
X-ORIGINAL-URL:https://www.millionaireasia.com
X-WR-CALDESC:Events for Millionaireasia
BEGIN:VTIMEZONE
TZID:Asia/Singapore
BEGIN:STANDARD
TZOFFSETFROM:+0800
TZOFFSETTO:+0800
TZNAME:+08
DTSTART:20220101T000000
END:STANDARD
END:VTIMEZONE
BEGIN:VEVENT
DTSTART;TZID=Asia/Singapore:20220406T090000
DTEND;TZID=Asia/Singapore:20220406T170000
DTSTAMP:20260422T185804
CREATED:20211202T035503Z
LAST-MODIFIED:20211209T095419Z
UID:8025-1649235600-1649264400@www.millionaireasia.com
SUMMARY:Business Law Seminar (Mandarin)
DESCRIPTION:This is a series of four events held over the course of one year.
URL:https://www.millionaireasia.com/event/business-law-seminar-mandarin/
ATTACH;FMTTYPE=image/png:https://www.millionaireasia.com/wp-content/uploads/2021/11/Quarterly-Law.png
END:VEVENT
END:VCALENDAR